BEGIN:VCALENDAR
VERSION:2.0
PRODID:-//Landesverband Hamburg | dieBasis - ECPv6.15.20//NONSGML v1.0//EN
CALSCALE:GREGORIAN
METHOD:PUBLISH
X-ORIGINAL-URL:https://diebasis-hamburg.de
X-WR-CALDESC:Veranstaltungen für Landesverband Hamburg | dieBasis
REFRESH-INTERVAL;VALUE=DURATION:PT1H
X-Robots-Tag:noindex
X-PUBLISHED-TTL:PT1H
BEGIN:VTIMEZONE
TZID:Europe/Berlin
BEGIN:DAYLIGHT
TZOFFSETFROM:+0100
TZOFFSETTO:+0200
TZNAME:CEST
DTSTART:20230326T010000
END:DAYLIGHT
BEGIN:STANDARD
TZOFFSETFROM:+0200
TZOFFSETTO:+0100
TZNAME:CET
DTSTART:20231029T010000
END:STANDARD
BEGIN:DAYLIGHT
TZOFFSETFROM:+0100
TZOFFSETTO:+0200
TZNAME:CEST
DTSTART:20240331T010000
END:DAYLIGHT
BEGIN:STANDARD
TZOFFSETFROM:+0200
TZOFFSETTO:+0100
TZNAME:CET
DTSTART:20241027T010000
END:STANDARD
BEGIN:DAYLIGHT
TZOFFSETFROM:+0100
TZOFFSETTO:+0200
TZNAME:CEST
DTSTART:20250330T010000
END:DAYLIGHT
BEGIN:STANDARD
TZOFFSETFROM:+0200
TZOFFSETTO:+0100
TZNAME:CET
DTSTART:20251026T010000
END:STANDARD
END:VTIMEZONE
BEGIN:VEVENT
DTSTART;TZID=Europe/Berlin:20240601T100000
DTEND;TZID=Europe/Berlin:20240602T180000
DTSTAMP:20260422T024756
CREATED:20240527T085845Z
LAST-MODIFIED:20240527T090857Z
UID:6307-1717236000-1717351200@diebasis-hamburg.de
SUMMARY:Altonale 2024 – wir kommen!
DESCRIPTION:Liebe Basisgemeinschaft Hamburg\, \ndie Sommersaison kommt langsam in Fahrt und wir springen weiter mit Euch auf. Nächste Station – Altonale 2024! \nAm kommenden Wochenende (01. und 02. Juni) lädt dieBasis Hamburg ein\, unseren Informations- und Vernetzungsstand auf der Altonale zu besuchen. \nNur einen ordentlichen Steinwurf von der Elbe entfernt\, sollen Freude und Zuversicht im Vordergrund stehen und uns eine schöne\, gemeinsame Zeit schenken. \nDer dieBasis-Pavillon bietet Euch auf der Altonale eine Plattform und Anlaufstelle\, wo man sich austauschen und vernetzen\, sowie gemeinsam das Leben und den Frieden feiern kann! \nStehtische und nette Basisständler laden zum entspannten oder angeregten Gespräch über Euch bewegende Themen ein. \nKleinigkeiten zu Trinken und Essen stehen für Mitglieder bereit. \nSitzgelegenheiten bieten eine Verschnaufpause an. \nZum Abend hin wird ein wenig musikalische Untermalung zu rhythmischen Bewegungsabläufen und Schwarmverhalten aufrufen. \nBringt gerne Eure Familie\, Freunde\, Freigeister\, Schwurbler\, liebe Menschen\, Mukke und gute Laune mit und kommt vorbei! Ihr seid herzlich willkommen! \nLasst uns diese Zeit genießen und gemeinsam schauen\, wie wir uns in Hamburg gegenseitig ergänzen und helfen können. \nDie am 9. Juni anstehende Europa-Wahl motiviert uns zusätzlich\, bei dieser Gelegenheit allen Hamburgern dieBasis Hamburg und unsere Ideen für eine bessere Zukunft näher zu bringen und zum eigenständigen\, kritischen Denken zu ermutigen. \nWir freuen uns auf Euch und das kommende Wochenende! \nEuer Vorstand \n 
URL:https://diebasis-hamburg.de/event/altonale-2024-wir-kommen/
LOCATION:Altona
CATEGORIES:Infostand
ORGANIZER;CN="dieBasis LV Hamburg":MAILTO:post@diebasis-hamburg.de
END:VEVENT
END:VCALENDAR