BEGIN:VCALENDAR
VERSION:2.0
PRODID:-//Landesverband Hamburg | dieBasis - ECPv6.15.20//NONSGML v1.0//EN
CALSCALE:GREGORIAN
METHOD:PUBLISH
X-WR-CALNAME:Landesverband Hamburg | dieBasis
X-ORIGINAL-URL:https://diebasis-hamburg.de
X-WR-CALDESC:Veranstaltungen für Landesverband Hamburg | dieBasis
REFRESH-INTERVAL;VALUE=DURATION:PT1H
X-Robots-Tag:noindex
X-PUBLISHED-TTL:PT1H
BEGIN:VTIMEZONE
TZID:Europe/Berlin
BEGIN:DAYLIGHT
TZOFFSETFROM:+0100
TZOFFSETTO:+0200
TZNAME:CEST
DTSTART:20220327T010000
END:DAYLIGHT
BEGIN:STANDARD
TZOFFSETFROM:+0200
TZOFFSETTO:+0100
TZNAME:CET
DTSTART:20221030T010000
END:STANDARD
BEGIN:DAYLIGHT
TZOFFSETFROM:+0100
TZOFFSETTO:+0200
TZNAME:CEST
DTSTART:20230326T010000
END:DAYLIGHT
BEGIN:STANDARD
TZOFFSETFROM:+0200
TZOFFSETTO:+0100
TZNAME:CET
DTSTART:20231029T010000
END:STANDARD
BEGIN:DAYLIGHT
TZOFFSETFROM:+0100
TZOFFSETTO:+0200
TZNAME:CEST
DTSTART:20240331T010000
END:DAYLIGHT
BEGIN:STANDARD
TZOFFSETFROM:+0200
TZOFFSETTO:+0100
TZNAME:CET
DTSTART:20241027T010000
END:STANDARD
END:VTIMEZONE
BEGIN:VEVENT
DTSTART;TZID=Europe/Berlin:20230128T150000
DTEND;TZID=Europe/Berlin:20230128T170000
DTSTAMP:20260425T222233
CREATED:20230126T103742Z
LAST-MODIFIED:20230126T181847Z
UID:5795-1674918000-1674925200@diebasis-hamburg.de
SUMMARY:Infostand dieBasis für eine Zukunft in Frieden und Gerechtigkeit\, Aufarbeitung der Corona-Maßnahmen und Versöhnung ohne Hass und Hetze
DESCRIPTION:Diesen Samstag findet wieder im Herzen von Hamburg ein Infostand unter dem Motto „Für eine Zukunft in Frieden und Gerechtigkeit\, Aufarbeitung der Corona-Maßnahmen und Versöhnung ohne Hass und Hetze“ statt. \nIhr findet uns \n🕒 am 28.01. von 15 – 17 Uhr   \n📍 vor der Europa Passage (Ballindamm 40). \nWir freuen uns auf Euren Besuch!
URL:https://diebasis-hamburg.de/event/infostand-diebasis/
LOCATION:Binnenalster vor der Europa Passage\, Ballindamm 38\, Hamburg\, Hamburg\, 20095
CATEGORIES:Infostand
END:VEVENT
END:VCALENDAR