BEGIN:VCALENDAR
VERSION:2.0
PRODID:-//Landesverband Hamburg | dieBasis - ECPv6.15.20//NONSGML v1.0//EN
CALSCALE:GREGORIAN
METHOD:PUBLISH
X-WR-CALNAME:Landesverband Hamburg | dieBasis
X-ORIGINAL-URL:https://diebasis-hamburg.de
X-WR-CALDESC:Veranstaltungen für Landesverband Hamburg | dieBasis
REFRESH-INTERVAL;VALUE=DURATION:PT1H
X-Robots-Tag:noindex
X-PUBLISHED-TTL:PT1H
BEGIN:VTIMEZONE
TZID:Europe/Berlin
BEGIN:DAYLIGHT
TZOFFSETFROM:+0100
TZOFFSETTO:+0200
TZNAME:CEST
DTSTART:20230326T010000
END:DAYLIGHT
BEGIN:STANDARD
TZOFFSETFROM:+0200
TZOFFSETTO:+0100
TZNAME:CET
DTSTART:20231029T010000
END:STANDARD
BEGIN:DAYLIGHT
TZOFFSETFROM:+0100
TZOFFSETTO:+0200
TZNAME:CEST
DTSTART:20240331T010000
END:DAYLIGHT
BEGIN:STANDARD
TZOFFSETFROM:+0200
TZOFFSETTO:+0100
TZNAME:CET
DTSTART:20241027T010000
END:STANDARD
BEGIN:DAYLIGHT
TZOFFSETFROM:+0100
TZOFFSETTO:+0200
TZNAME:CEST
DTSTART:20250330T010000
END:DAYLIGHT
BEGIN:STANDARD
TZOFFSETFROM:+0200
TZOFFSETTO:+0100
TZNAME:CET
DTSTART:20251026T010000
END:STANDARD
END:VTIMEZONE
BEGIN:VEVENT
DTSTART;TZID=Europe/Berlin:20241103T180000
DTEND;TZID=Europe/Berlin:20241103T220000
DTSTAMP:20260423T093016
CREATED:20241011T083718Z
LAST-MODIFIED:20241011T084408Z
UID:6647-1730656800-1730671200@diebasis-hamburg.de
SUMMARY:Was Sie schon immer über das Impfen wissen wollten
DESCRIPTION:Vortrag von Bert Ehgartner \n\nEintritt:          Freie Spende \n\n\n\nWann:             Sonntag\, 3. November 2024\, ca. 19:00 Uhr (Einlass  18:00) \n\n\n\nWo:                 Enjoy Darts Club\,  Haldesdorfer Straße 52\, 22179 Hamburg 
URL:https://diebasis-hamburg.de/event/was-sie-schon-immer-ueber-das-impfen-wissen-wollten/
LOCATION:Präsenz Enjoy Darts Club\, Haldesdorfer Straße 52\, Hamburg\, 22179\, Deutschland
CATEGORIES:Veranstaltungen
ATTACH;FMTTYPE=image/jpeg:https://diebasis-hamburg.de/wp-content/uploads/2024/10/Unter-die-Haut-Poster-scaled.jpg
ORGANIZER;CN="dieBasis LV Hamburg":MAILTO:post@diebasis-hamburg.de
END:VEVENT
END:VCALENDAR